BEGIN:VCALENDAR
VERSION:2.0
PRODID:-//DN Dance Edinburgh - ECPv6.15.20//NONSGML v1.0//EN
CALSCALE:GREGORIAN
METHOD:PUBLISH
X-WR-CALNAME:DN Dance Edinburgh
X-ORIGINAL-URL:https://www.dndance.co.uk
X-WR-CALDESC:Events for DN Dance Edinburgh
REFRESH-INTERVAL;VALUE=DURATION:PT1H
X-Robots-Tag:noindex
X-PUBLISHED-TTL:PT1H
BEGIN:VTIMEZONE
TZID:Europe/London
BEGIN:DAYLIGHT
TZOFFSETFROM:+0000
TZOFFSETTO:+0100
TZNAME:BST
DTSTART:20240331T010000
END:DAYLIGHT
BEGIN:STANDARD
TZOFFSETFROM:+0100
TZOFFSETTO:+0000
TZNAME:GMT
DTSTART:20241027T010000
END:STANDARD
BEGIN:DAYLIGHT
TZOFFSETFROM:+0000
TZOFFSETTO:+0100
TZNAME:BST
DTSTART:20250330T010000
END:DAYLIGHT
BEGIN:STANDARD
TZOFFSETFROM:+0100
TZOFFSETTO:+0000
TZNAME:GMT
DTSTART:20251026T010000
END:STANDARD
BEGIN:DAYLIGHT
TZOFFSETFROM:+0000
TZOFFSETTO:+0100
TZNAME:BST
DTSTART:20260329T010000
END:DAYLIGHT
BEGIN:STANDARD
TZOFFSETFROM:+0100
TZOFFSETTO:+0000
TZNAME:GMT
DTSTART:20261025T010000
END:STANDARD
END:VTIMEZONE
BEGIN:VEVENT
DTSTART;TZID=Europe/London:20250728T090000
DTEND;TZID=Europe/London:20250801T170000
DTSTAMP:20260421T232427
CREATED:20241209T134203Z
LAST-MODIFIED:20250224T114313Z
UID:245331-1753693200-1754067600@www.dndance.co.uk
SUMMARY:Mary Poppins - Summer Holiday Club 2025 - South Gyle\, Edinburgh
DESCRIPTION:Mary Poppins is the theme for our holiday club at DN Studios in South Gyle\, Edinburgh. It’s a week packed full of singing\, acting\, dance and crafts with a special performance at the end for parents to enjoy. School holidays are great for kids\, but it’s important to find enough of the right things to do to stimulate their young minds. Our holiday clubs provide the perfect balance of creative stimulation\, learning and fun to ensure your child has a super rewarding week. Here’s the details: \n\nDN Studios @ South Gyle\, Edinburgh\nMonday 28th July to Friday 1st August 2025\nDaily from 9am to 5pm\nAges 5-12 years\n\nBOOKINGS NOW OPEN – Mary Poppins – Summer Holiday Club 2025 – South Gyle
URL:https://www.dndance.co.uk/event/summer-holiday-club-2-gyle/
LOCATION:DN Studios @ South Gyle\, 9b South Gyle Crescent\, Edinburgh\, Edinburgh City\, EH12 9EB\, United Kingdom
CATEGORIES:Holiday Clubs
ATTACH;FMTTYPE=image/jpeg:https://www.dndance.co.uk/wp-content/uploads/2024/12/Mary-Poppins-Banner.jpg
ORGANIZER;CN="DN Dance":MAILTO:hello@dnstudios.co.uk
END:VEVENT
BEGIN:VEVENT
DTSTART;TZID=Europe/London:20250817T100000
DTEND;TZID=Europe/London:20250817T120000
DTSTAMP:20260421T232427
CREATED:20250617T131850Z
LAST-MODIFIED:20250617T131850Z
UID:246602-1755424800-1755432000@www.dndance.co.uk
SUMMARY:DN Colour Run - DWC 2026 Fundraiser
DESCRIPTION:Join the DN Fundraising Committee for a vibrant Colour Run in support of our dancers heading to the Dance World Cup 2026! Whether you’re running\, walking\, or cheering from the sidelines\, it’s all about community and fun! \nExpect music\, games\, and colour at every turn—white shirts encouraged! Children will receive sunglasses at check-in\, and snacks and drinks will be available for purchase to keep you going. \nChildren under 8 year must be accompanied on the course by an adult\, who may participate at no cost. Adults attending without children will require a standard ticket. \nSpaces are limited. To take part\, please register in advance.
URL:https://www.dndance.co.uk/event/dn-colour-run-dwc-2026-fundraiser/
LOCATION:Sighthill Park Edinburgh\, EH11 4PW United Kingdom\, Sighthill Park Edinburgh\, Edinburgh\, City of Edinburgh\, EH11 4PW\, United Kingdom
CATEGORIES:Events
ATTACH;FMTTYPE=image/jpeg:https://www.dndance.co.uk/wp-content/uploads/2024/03/original-89C98F3F-22FE-4814-9C2D-49036C736DE4-e1709647982142.jpeg
ORGANIZER;CN="DN Company Parents Committee":MAILTO:pc@dndance.co.uk
END:VEVENT
BEGIN:VEVENT
DTSTART;TZID=Europe/London:20250830T180000
DTEND;TZID=Europe/London:20250831T003000
DTSTAMP:20260421T232427
CREATED:20241209T144553Z
LAST-MODIFIED:20250721T134255Z
UID:245311-1756576800-1756600200@www.dndance.co.uk
SUMMARY:DN Dance - 15 year Anniversary Ball
DESCRIPTION:DN Dance – 15 year Anniversary – Charity Ball\nDN Dance is 15 YEARS OLD in August 2025 and we’re having a PARTY. \nJoin us at the iconic Ghillie Dhu in Edinburgh for a night of fun to help us celebrate\, and what better way to do it than with a Ceilidh dinner dance.  Every ticket includes a dink on arrival and hot food buffet\, followed by a Ceilidh dance and finishing off with a DJ playing the best tunes into the night. \nTICKETS ON SALE – RESERVE YOURS TODAY \nThis event has a maximum capacity of 200 and is open to adults and childern from 8 yrs old.  Please be aware that alcohol will be sold at the event\, so every child must be accompanied by an adult. \nTickets are on sale now. All proceeds go to our charity partner Edinburgh Community Performing Arts\, to support the great work they do for the local community in Edinburgh.
URL:https://www.dndance.co.uk/event/15th-anniversary-ball/
LOCATION:Ghillie Dhu\, 2 Rutland Place\, Edinburgh\, City of Edinburgh\, EH1 2AD\, United Kingdom
CATEGORIES:Events
ATTACH;FMTTYPE=image/jpeg:https://www.dndance.co.uk/wp-content/uploads/2024/12/Ceilidh-Dance-e1734105321472.jpg
ORGANIZER;CN="DN Dance":MAILTO:hello@dnstudios.co.uk
END:VEVENT
END:VCALENDAR