BEGIN:VCALENDAR
VERSION:2.0
PRODID:-//DN Dance Edinburgh - ECPv6.15.20//NONSGML v1.0//EN
CALSCALE:GREGORIAN
METHOD:PUBLISH
X-WR-CALNAME:DN Dance Edinburgh
X-ORIGINAL-URL:https://www.dndance.co.uk
X-WR-CALDESC:Events for DN Dance Edinburgh
REFRESH-INTERVAL;VALUE=DURATION:PT1H
X-Robots-Tag:noindex
X-PUBLISHED-TTL:PT1H
BEGIN:VTIMEZONE
TZID:Europe/London
BEGIN:DAYLIGHT
TZOFFSETFROM:+0000
TZOFFSETTO:+0100
TZNAME:BST
DTSTART:20230326T010000
END:DAYLIGHT
BEGIN:STANDARD
TZOFFSETFROM:+0100
TZOFFSETTO:+0000
TZNAME:GMT
DTSTART:20231029T010000
END:STANDARD
BEGIN:DAYLIGHT
TZOFFSETFROM:+0000
TZOFFSETTO:+0100
TZNAME:BST
DTSTART:20240331T010000
END:DAYLIGHT
BEGIN:STANDARD
TZOFFSETFROM:+0100
TZOFFSETTO:+0000
TZNAME:GMT
DTSTART:20241027T010000
END:STANDARD
BEGIN:DAYLIGHT
TZOFFSETFROM:+0000
TZOFFSETTO:+0100
TZNAME:BST
DTSTART:20250330T010000
END:DAYLIGHT
BEGIN:STANDARD
TZOFFSETFROM:+0100
TZOFFSETTO:+0000
TZNAME:GMT
DTSTART:20251026T010000
END:STANDARD
BEGIN:DAYLIGHT
TZOFFSETFROM:+0000
TZOFFSETTO:+0100
TZNAME:BST
DTSTART:20260329T010000
END:DAYLIGHT
BEGIN:STANDARD
TZOFFSETFROM:+0100
TZOFFSETTO:+0000
TZNAME:GMT
DTSTART:20261025T010000
END:STANDARD
END:VTIMEZONE
BEGIN:VEVENT
DTSTART;TZID=Europe/London:20250329T193000
DTEND;TZID=Europe/London:20250329T193000
DTSTAMP:20260422T032245
CREATED:20250116T175301Z
LAST-MODIFIED:20250218T112405Z
UID:245582-1743276600-1743276600@www.dndance.co.uk
SUMMARY:DN Adults Dance Showcase
DESCRIPTION:DN Dance proudly presents our annual Adults Dance Showcase.  \nOur fabulous cast is comprised of our Adult dance students from our range of Ballet\, Tap\, and Jazz classes. This wonderful event is a real community-building affair\, with great music\, entertainment\, glitz and glam\, in a fun and social environment. \nBuy Tickets Here \nWe are limited to 200 due to venue capacity. Don’t miss your chance to snap yours up and join the fun.
URL:https://www.dndance.co.uk/event/dn-adults-dance-showcase/
LOCATION:O2 Academy\, 11 New Market Road\, Edinburgh\, City of Edinburgh\, EH14 1RJ
CATEGORIES:Events,Shows
ATTACH;FMTTYPE=image/png:https://www.dndance.co.uk/wp-content/uploads/2024/07/Untitled-design-11.png
ORGANIZER;CN="DN Dance":MAILTO:hello@dnstudios.co.uk
END:VEVENT
BEGIN:VEVENT
DTSTART;TZID=Europe/London:20241208T140000
DTEND;TZID=Europe/London:20241208T160000
DTSTAMP:20260422T032245
CREATED:20241120T142453Z
LAST-MODIFIED:20241203T170520Z
UID:245088-1733666400-1733673600@www.dndance.co.uk
SUMMARY:Christmas Party (4-11yrs)\, NEARLY FULL
DESCRIPTION:FINAL FEW SPACES LEFT \nJoin us for two hours of Christmas fun at DN Studios with a live DJ\, dancing\, games\, prizes\, hot dogs and much much! You might even be lucky enough to get a visit from our school mascot\, Della the Duck..! \n\nBook Now
URL:https://www.dndance.co.uk/event/christmas-party-4-11yrs/
LOCATION:DN Studios @ South Gyle\, 9b South Gyle Crescent\, Edinburgh\, Edinburgh City\, EH12 9EB\, United Kingdom
CATEGORIES:Seasonal Parties
ATTACH;FMTTYPE=image/jpeg:https://www.dndance.co.uk/wp-content/uploads/2024/11/children-dance-at-christmas-party-in-lights-happy-childhood-free-photo-e1733245329741.jpg
ORGANIZER;CN="DN Dance":MAILTO:hello@dnstudios.co.uk
END:VEVENT
END:VCALENDAR