BEGIN:VCALENDAR
VERSION:2.0
PRODID:-//DN Dance Edinburgh - ECPv6.15.20//NONSGML v1.0//EN
CALSCALE:GREGORIAN
METHOD:PUBLISH
X-WR-CALNAME:DN Dance Edinburgh
X-ORIGINAL-URL:https://www.dndance.co.uk
X-WR-CALDESC:Events for DN Dance Edinburgh
REFRESH-INTERVAL;VALUE=DURATION:PT1H
X-Robots-Tag:noindex
X-PUBLISHED-TTL:PT1H
BEGIN:VTIMEZONE
TZID:Europe/London
BEGIN:DAYLIGHT
TZOFFSETFROM:+0000
TZOFFSETTO:+0100
TZNAME:BST
DTSTART:20240331T010000
END:DAYLIGHT
BEGIN:STANDARD
TZOFFSETFROM:+0100
TZOFFSETTO:+0000
TZNAME:GMT
DTSTART:20241027T010000
END:STANDARD
BEGIN:DAYLIGHT
TZOFFSETFROM:+0000
TZOFFSETTO:+0100
TZNAME:BST
DTSTART:20250330T010000
END:DAYLIGHT
BEGIN:STANDARD
TZOFFSETFROM:+0100
TZOFFSETTO:+0000
TZNAME:GMT
DTSTART:20251026T010000
END:STANDARD
BEGIN:DAYLIGHT
TZOFFSETFROM:+0000
TZOFFSETTO:+0100
TZNAME:BST
DTSTART:20260329T010000
END:DAYLIGHT
BEGIN:STANDARD
TZOFFSETFROM:+0100
TZOFFSETTO:+0000
TZNAME:GMT
DTSTART:20261025T010000
END:STANDARD
BEGIN:DAYLIGHT
TZOFFSETFROM:+0000
TZOFFSETTO:+0100
TZNAME:BST
DTSTART:20270328T010000
END:DAYLIGHT
BEGIN:STANDARD
TZOFFSETFROM:+0100
TZOFFSETTO:+0000
TZNAME:GMT
DTSTART:20271031T010000
END:STANDARD
END:VTIMEZONE
BEGIN:VEVENT
DTSTART;VALUE=DATE:20251115
DTEND;VALUE=DATE:20251117
DTSTAMP:20260421T231827
CREATED:20241209T141420Z
LAST-MODIFIED:20241209T142011Z
UID:245339-1763172000-1763337599@www.dndance.co.uk
SUMMARY:DN Dance Show 2025 - Upper School
DESCRIPTION:Dates Confirmed – SAVE THE DATE \nTickets go on sale in August 2025 after show information has been sent out to the relevant classes. Subscribe to the event calendar to get notifications on event updates including ticket sales.
URL:https://www.dndance.co.uk/event/dn-dance-show-2025/
LOCATION:The Alhambra Theatre\, 33-35 Canmore St\, Dunfermline\, Fife\, KY12 7NX\, United Kingdom
CATEGORIES:Shows
ATTACH;FMTTYPE=image/jpeg:https://www.dndance.co.uk/wp-content/uploads/2023/05/Contemporary-Website-Banner-scaled.jpg
ORGANIZER;CN="DN Dance":MAILTO:hello@dnstudios.co.uk
END:VEVENT
BEGIN:VEVENT
DTSTART;TZID=Europe/London:20260413T090000
DTEND;TZID=Europe/London:20260415T170000
DTSTAMP:20260421T231827
CREATED:20251006T142502Z
LAST-MODIFIED:20251006T143632Z
UID:246373-1776070800-1776272400@www.dndance.co.uk
SUMMARY:London Trip 2026
DESCRIPTION:We’re thrilled to share details about an amazing trip we’re planning for Easter 2026\, and we’d love your dancer to be part of it! \nFrom 13th to 15th April 2026\, we’re heading to London for a 3-day\, 2-night Performing Arts adventure\, packed with West End shows\, dance workshops\, sightseeing\, and unforgettable memories. \nYou can see further information here: London Trip 2026 \nThis trip is open to all dancers from S2 and up\, and they’ll be accompanied by our fantastic DN staff\, who will be there every step of the way as chaperones. \nWant to reserve a spot?\nYou can book your dancers space via the ‘Events’ page in your online portal: portal.dndance.co.uk \nIt’s going to be fabulous!
URL:https://www.dndance.co.uk/event/london-trip-2026/
LOCATION:Various locations\, London UK
ATTACH;FMTTYPE=image/png:https://www.dndance.co.uk/wp-content/uploads/2025/10/Untitled-1800-x-300-px.png
END:VEVENT
END:VCALENDAR