BEGIN:VCALENDAR
VERSION:2.0
PRODID:-//DN Dance Edinburgh - ECPv6.15.20//NONSGML v1.0//EN
CALSCALE:GREGORIAN
METHOD:PUBLISH
X-ORIGINAL-URL:https://www.dndance.co.uk
X-WR-CALDESC:Events for DN Dance Edinburgh
REFRESH-INTERVAL;VALUE=DURATION:PT1H
X-Robots-Tag:noindex
X-PUBLISHED-TTL:PT1H
BEGIN:VTIMEZONE
TZID:Europe/London
BEGIN:DAYLIGHT
TZOFFSETFROM:+0000
TZOFFSETTO:+0100
TZNAME:BST
DTSTART:20240331T010000
END:DAYLIGHT
BEGIN:STANDARD
TZOFFSETFROM:+0100
TZOFFSETTO:+0000
TZNAME:GMT
DTSTART:20241027T010000
END:STANDARD
BEGIN:DAYLIGHT
TZOFFSETFROM:+0000
TZOFFSETTO:+0100
TZNAME:BST
DTSTART:20250330T010000
END:DAYLIGHT
BEGIN:STANDARD
TZOFFSETFROM:+0100
TZOFFSETTO:+0000
TZNAME:GMT
DTSTART:20251026T010000
END:STANDARD
BEGIN:DAYLIGHT
TZOFFSETFROM:+0000
TZOFFSETTO:+0100
TZNAME:BST
DTSTART:20260329T010000
END:DAYLIGHT
BEGIN:STANDARD
TZOFFSETFROM:+0100
TZOFFSETTO:+0000
TZNAME:GMT
DTSTART:20261025T010000
END:STANDARD
END:VTIMEZONE
BEGIN:VEVENT
DTSTART;TZID=Europe/London:20250721T090000
DTEND;TZID=Europe/London:20250725T170000
DTSTAMP:20260422T025146
CREATED:20241121T174321Z
LAST-MODIFIED:20250224T114932Z
UID:245116-1753088400-1753462800@www.dndance.co.uk
SUMMARY:Greatest Showman - Summer Holiday Club 2025 - South Gyle\, Edinburgh
DESCRIPTION:Greatest Showman is the theme for our holiday club at DN Studios in South Gyle\, Edinburgh Queensferry. It is a week packed full of singing\, acting\, dance and crafts with a special performance at the end for parents to enjoy. School holidays are great for kids\, but it’s important to find enough of the right things to do to stimulate their young minds. Our holiday clubs provide the perfect balance of creative stimulation\, learning and fun to ensure your child has a super rewarding week. Here’s the details: \n\nDN Studios\, South Gyle\, Edinburgh\nMonday 21st July to Friday 25th July 2025\nDaily from 9am to 5pm\nAges 5-12 years\n\nBookings now open – GREATEST SHOWMAN – Summer Holiday Club 2025
URL:https://www.dndance.co.uk/event/summer-holiday-club-1-gyle/
LOCATION:DN Studios @ South Gyle\, 9b South Gyle Crescent\, Edinburgh\, Edinburgh City\, EH12 9EB\, United Kingdom
CATEGORIES:Holiday Clubs
ATTACH;FMTTYPE=image/jpeg:https://www.dndance.co.uk/wp-content/uploads/2024/11/greatest-showman-banner-e1740397431917.jpg
ORGANIZER;CN="DN Dance":MAILTO:hello@dnstudios.co.uk
END:VEVENT
BEGIN:VEVENT
DTSTART;TZID=Europe/London:20250721T090000
DTEND;TZID=Europe/London:20250725T170000
DTSTAMP:20260422T025146
CREATED:20241121T181920Z
LAST-MODIFIED:20250224T114940Z
UID:245121-1753088400-1753462800@www.dndance.co.uk
SUMMARY:Greatest Showman - Summer Holiday Club - South Queensferry
DESCRIPTION:Greatest Showman is the theme for our holiday club in South Queensferry. It is a week packed full of singing\, acting\, dance and crafts with a special performance at the end for parents to enjoy. School holidays are great for kids\, but it’s important to find enough of the right things to do to stimulate their young minds. Our holiday clubs provide the perfect balance of creative stimulation\, learning and fun to ensure your child has a super rewarding week. Here’s the details: \n\nRoseberry Hall\, South Queensferry\nMonday 21st July to Friday 25th July 2025\nDaily from 9am to 5pm\nAges 5-12 years\n\nBOOKINGS NOW OPEN – Greatest Showman – Summer Holiday Club 2025 – South Queensferry
URL:https://www.dndance.co.uk/event/summer-holiday-club-week-1-sqf/
LOCATION:Roseberry Hall\, 17 West Terrace\, South Queensferry\, City of Edinburgh\, EH30 9LL\, United Kingdom
CATEGORIES:Holiday Clubs
ATTACH;FMTTYPE=image/jpeg:https://www.dndance.co.uk/wp-content/uploads/2024/11/greatest-showman-banner-e1740397431917.jpg
ORGANIZER;CN="DN Dance":MAILTO:hello@dnstudios.co.uk
END:VEVENT
END:VCALENDAR